BEGIN:VCALENDAR
VERSION:2.0
PRODID:-//St. Bernard School | Rockport, Indiana - ECPv6.15.17.1//NONSGML v1.0//EN
CALSCALE:GREGORIAN
METHOD:PUBLISH
X-WR-CALNAME:St. Bernard School | Rockport, Indiana
X-ORIGINAL-URL:https://stbernardschool.org
X-WR-CALDESC:Events for St. Bernard School | Rockport, Indiana
REFRESH-INTERVAL;VALUE=DURATION:PT1H
X-Robots-Tag:noindex
X-PUBLISHED-TTL:PT1H
BEGIN:VTIMEZONE
TZID:America/Chicago
BEGIN:DAYLIGHT
TZOFFSETFROM:-0600
TZOFFSETTO:-0500
TZNAME:CDT
DTSTART:20220313T080000
END:DAYLIGHT
BEGIN:STANDARD
TZOFFSETFROM:-0500
TZOFFSETTO:-0600
TZNAME:CST
DTSTART:20221106T070000
END:STANDARD
BEGIN:DAYLIGHT
TZOFFSETFROM:-0600
TZOFFSETTO:-0500
TZNAME:CDT
DTSTART:20230312T080000
END:DAYLIGHT
BEGIN:STANDARD
TZOFFSETFROM:-0500
TZOFFSETTO:-0600
TZNAME:CST
DTSTART:20231105T070000
END:STANDARD
BEGIN:DAYLIGHT
TZOFFSETFROM:-0600
TZOFFSETTO:-0500
TZNAME:CDT
DTSTART:20240310T080000
END:DAYLIGHT
BEGIN:STANDARD
TZOFFSETFROM:-0500
TZOFFSETTO:-0600
TZNAME:CST
DTSTART:20241103T070000
END:STANDARD
END:VTIMEZONE
BEGIN:VEVENT
DTSTART;TZID=America/Chicago:20230420T072500
DTEND;TZID=America/Chicago:20230420T074500
DTSTAMP:20260422T044742
CREATED:20230413T163304Z
LAST-MODIFIED:20230413T163304Z
UID:10000106-1681975500-1681976700@stbernardschool.org
SUMMARY:Annie Jr. Ticket Pre-Sale Day 2
DESCRIPTION:Need to Purchase Tickets? – Tickets can be purchased by school families in the school cafeteria from 7:25 AM – 7:45 AM on the following dates: 4/19\, 4/20\, 4/26\, and 4/27. Tickets are $5 each. Parents sending money with a child are asked to include a note stating how many tickets and the date of the show. This is also the perfect time for cast members to purchase tickets for family members and close friends wishing to attend. Although we are not limiting sales per family\, we are only selling 100 tickets per show. Cast members are encouraged to space out their guests over the three shows. For example\, rather than having 10 people attend the Friday show\, have 3-4 people attend each of the shows. If any tickets are still available\, they will be sold at the gate on a first-come\, first-served basis. \nOur middle school students are excited to perform Annie Jr. later this month. Performance dates/times are as follows: Friday\, April 28 and Saturday\, April 29 at 7 PM and Sunday\, April 30 at 2 PM. All cast members will receive two free tickets to each show for family and friends.
URL:https://stbernardschool.org/event/annie-jr-ticket-pre-sale-day-2/
END:VEVENT
END:VCALENDAR